BEGIN:VCALENDAR
VERSION:2.0
PRODID:-//ASPRI - ECPv6.15.20//NONSGML v1.0//EN
CALSCALE:GREGORIAN
METHOD:PUBLISH
X-WR-CALNAME:ASPRI
X-ORIGINAL-URL:https://aspri.com.sg
X-WR-CALDESC:Events for ASPRI
REFRESH-INTERVAL;VALUE=DURATION:PT1H
X-Robots-Tag:noindex
X-PUBLISHED-TTL:PT1H
BEGIN:VTIMEZONE
TZID:Asia/Singapore
BEGIN:STANDARD
TZOFFSETFROM:+0800
TZOFFSETTO:+0800
TZNAME:+08
DTSTART:20240101T000000
END:STANDARD
END:VTIMEZONE
BEGIN:VEVENT
DTSTART;TZID=Asia/Singapore:20250507T113000
DTEND;TZID=Asia/Singapore:20250507T140000
DTSTAMP:20260423T160831
CREATED:20250421T031317Z
LAST-MODIFIED:20250421T031317Z
UID:30126-1746617400-1746626400@aspri.com.sg
SUMMARY:Lunchtime Talk on Business Succession Planning With RSM Singapore
DESCRIPTION:Effective succession planning is essential to business continuity. Join us for an interactive lunchtime session with RSM’s senior advisor and an ex-private equity investor to explore the options available to business owners when preparing for business succession and transition\, and understand why well thought-out planning is key to securing the legacy of your enterprise. \n\n\nEvent Details:\n\nDate: 7th May 2025 | Wednesday\nTime: 11:30 AM – 2:00 PM (Registration starts at 11:15 AM)\nVenue: Trade Association Hub\, Training Room 1A\, Level 1 9 Jurong Town Hall Rd\, Singapore 609431\n\n\nONLY open to ASPRI members.\nLimited to 2 representatives per UEN.\n\n>>> Click Here to Register <<<\n\nFor any inquiries\, feel free to contact Mr Bryan at bryan@aspri.com.sg or call 6421 3203.
URL:https://aspri.com.sg/event/lunchtime-talk-on-business-succession-planning-with-rsm-singapore/
LOCATION:Training Room T1A\, 9 Jurong Town Hall Road\, Level 1 Trade Association Hub
CATEGORIES:Seminar/Webinar
END:VEVENT
END:VCALENDAR