BEGIN:VCALENDAR
VERSION:2.0
PRODID:-//ASPRI - ECPv6.15.20//NONSGML v1.0//EN
CALSCALE:GREGORIAN
METHOD:PUBLISH
X-ORIGINAL-URL:https://aspri.com.sg
X-WR-CALDESC:Events for ASPRI
REFRESH-INTERVAL;VALUE=DURATION:PT1H
X-Robots-Tag:noindex
X-PUBLISHED-TTL:PT1H
BEGIN:VTIMEZONE
TZID:Asia/Singapore
BEGIN:STANDARD
TZOFFSETFROM:+0800
TZOFFSETTO:+0800
TZNAME:+08
DTSTART:20230101T000000
END:STANDARD
END:VTIMEZONE
BEGIN:VEVENT
DTSTART;TZID=Asia/Singapore:20241108T000000
DTEND;TZID=Asia/Singapore:20241108T000000
DTSTAMP:20260423T173632
CREATED:20241028T081143Z
LAST-MODIFIED:20241028T081143Z
UID:27541-1731024000-1731024000@aspri.com.sg
SUMMARY:[Partner] SCIC Productivity Improvement Forum (PIF)
DESCRIPTION:ASPRI would like to extend an invitation to our members for the Productivity Improvement Forum (PIF) 2024\, themed “Elevating Industry Excellence: Productivity Gains to Strategic Transformation in the PCM Sector”. \nPIF is an annual event to showcase the key results and findings of the various work groups with actionable insights on opportunities and strategies for improvements. PIF 2024 will also showcase the much-anticipated Launch of the Centre of Excellence (COE) for the Process\, Construction & Maintenance (PCM) sector. \nThe transition of the Productivity Council to the Center of Excellence (COE) represents a significant evolution for the PCM sector supporting the Process Industry – a shift from foundational productivity improvements to a more comprehensive and strategic approach to industry excellence. \n\n\nEvent Details \nDate: Friday\, 8 November 2024\nVenue: TBC (Details will be given nearing the date)\nFees: $140 per participant (inclusive of lunch and 2 tea-breaks)\n*Group discount applies\, please refer to the brochure here for more info. \n  \nPartnership and Sponsorship Opportunities \nFor members interested in exploring partnership opportunities or members who are interested in owning a booth as an exhibitor\, kindly email the organizer directly. \nFor more information and the programme schedule\, refer to the brochure here.
URL:https://aspri.com.sg/event/partner-scic-productivity-improvement-forum-pif/
END:VEVENT
BEGIN:VEVENT
DTSTART;TZID=Asia/Singapore:20241119T100000
DTEND;TZID=Asia/Singapore:20241119T180000
DTSTAMP:20260423T173632
CREATED:20241023T062002Z
LAST-MODIFIED:20241023T062111Z
UID:27363-1732010400-1732039200@aspri.com.sg
SUMMARY:Process Innovation Asia-Pacific – Powered by ACHEMA (PIA)
DESCRIPTION:ASPRI is excited to announce that we will be organising the Singapore Pavilion at the inaugural Process Innovation Asia-Pacific – Powered by ACHEMA (PIA) to be held from 19 to 21 November 2024 (Tuesday to Thursday)\, together with the support of the Constellar Exhibition\, at Singapore Expo Hall 2. \nAbout PIA \nAsia-Pacific embark on their transformative journeys looking for innovations in the process industries (e.g. chemical\, pharmaceuticals\, biotech\, food processing\, etc). Combined with the underlying trend of domestic capacity-building and de-risking policies\, process technology and expertise are in high demand in the region. Process Innovation Asia-Pacific – Powered by ACHEMA is a biennale event in Singapore. A comprehensive platform where innovation meets challenges: harmonizing global expertise with local needs\, enhancing regional ecosystems\, and propelling emerging economies forward. \nHere\, stakeholders experience innovative process technology hands-on\, trade expert insights build sustainable connections within their ecosystem. \nFor more information\, please visit the official website at https://processinnovationapac.com/sg. \n\n\nEvent Details \nDate: 19 to 21 November 2024 (Tuesday to Thursday) \nTime: 10 AM – 6 PM (Registration starts at 12:30PM) \nVenue: Singapore Expo\, Hall 3\, 1 Expo Drive\, Singapore 486150 \nClick here to register. \n\n\nIf you have any queries\, feel free to reach out to: \nASPRI: Mr Wong Jun Yuan / Mr Bryan Lowe \nTel: 6560 5051 \nEmail: admin@aspri.com.sg \nConstellar:Mr Shawn Tan \nTel: +65 8818 4985 \nEmail: shawn.tan@constellar.co
URL:https://aspri.com.sg/event/process-innovation-asia-pacific-powered-by-achema-pia/
LOCATION:Singapore Expo\, Hall 3\, 1 Expo Drive\, 486150\, Singapore
END:VEVENT
BEGIN:VEVENT
DTSTART;TZID=Asia/Singapore:20241120T100000
DTEND;TZID=Asia/Singapore:20241120T180000
DTSTAMP:20260423T173632
CREATED:20241023T062219Z
LAST-MODIFIED:20241023T062219Z
UID:27383-1732096800-1732125600@aspri.com.sg
SUMMARY:Process Innovation Asia-Pacific – Powered by ACHEMA (PIA)
DESCRIPTION:ASPRI is excited to announce that we will be organising the Singapore Pavilion at the inaugural Process Innovation Asia-Pacific – Powered by ACHEMA (PIA) to be held from 19 to 21 November 2024 (Tuesday to Thursday)\, together with the support of the Constellar Exhibition\, at Singapore Expo Hall 2. \nAbout PIA \nAsia-Pacific embark on their transformative journeys looking for innovations in the process industries (e.g. chemical\, pharmaceuticals\, biotech\, food processing\, etc). Combined with the underlying trend of domestic capacity-building and de-risking policies\, process technology and expertise are in high demand in the region. Process Innovation Asia-Pacific – Powered by ACHEMA is a biennale event in Singapore. A comprehensive platform where innovation meets challenges: harmonizing global expertise with local needs\, enhancing regional ecosystems\, and propelling emerging economies forward. \nHere\, stakeholders experience innovative process technology hands-on\, trade expert insights build sustainable connections within their ecosystem. \nFor more information\, please visit the official website at https://processinnovationapac.com/sg. \n\n\nEvent Details \nDate: 19 to 21 November 2024 (Tuesday to Thursday) \nTime: 10 AM – 6 PM (Registration starts at 12:30PM) \nVenue: Singapore Expo\, Hall 3\, 1 Expo Drive\, Singapore 486150 \nClick here to register. \n\n\nIf you have any queries\, feel free to reach out to: \nASPRI: Mr Wong Jun Yuan / Mr Bryan Lowe \nTel: 6560 5051 \nEmail: admin@aspri.com.sg \nConstellar:Mr Shawn Tan \nTel: +65 8818 4985 \nEmail: shawn.tan@constellar.co
URL:https://aspri.com.sg/event/process-innovation-asia-pacific-powered-by-achema-pia-2/
LOCATION:Singapore Expo\, Hall 3\, 1 Expo Drive\, 486150\, Singapore
END:VEVENT
BEGIN:VEVENT
DTSTART;TZID=Asia/Singapore:20241121T100000
DTEND;TZID=Asia/Singapore:20241121T180000
DTSTAMP:20260423T173632
CREATED:20241023T062339Z
LAST-MODIFIED:20241023T062339Z
UID:27385-1732183200-1732212000@aspri.com.sg
SUMMARY:Process Innovation Asia-Pacific – Powered by ACHEMA (PIA)
DESCRIPTION:ASPRI is excited to announce that we will be organising the Singapore Pavilion at the inaugural Process Innovation Asia-Pacific – Powered by ACHEMA (PIA) to be held from 19 to 21 November 2024 (Tuesday to Thursday)\, together with the support of the Constellar Exhibition\, at Singapore Expo Hall 2. \nAbout PIA \nAsia-Pacific embark on their transformative journeys looking for innovations in the process industries (e.g. chemical\, pharmaceuticals\, biotech\, food processing\, etc). Combined with the underlying trend of domestic capacity-building and de-risking policies\, process technology and expertise are in high demand in the region. Process Innovation Asia-Pacific – Powered by ACHEMA is a biennale event in Singapore. A comprehensive platform where innovation meets challenges: harmonizing global expertise with local needs\, enhancing regional ecosystems\, and propelling emerging economies forward. \nHere\, stakeholders experience innovative process technology hands-on\, trade expert insights build sustainable connections within their ecosystem. \nFor more information\, please visit the official website at https://processinnovationapac.com/sg. \n\n\nEvent Details \nDate: 19 to 21 November 2024 (Tuesday to Thursday) \nTime: 10 AM – 6 PM (Registration starts at 12:30PM) \nVenue: Singapore Expo\, Hall 3\, 1 Expo Drive\, Singapore 486150 \nClick here to register. \n\n\nIf you have any queries\, feel free to reach out to: \nASPRI: Mr Wong Jun Yuan / Mr Bryan Lowe \nTel: 6560 5051 \nEmail: admin@aspri.com.sg \nConstellar:Mr Shawn Tan \nTel: +65 8818 4985 \nEmail: shawn.tan@constellar.co
URL:https://aspri.com.sg/event/process-innovation-asia-pacific-powered-by-achema-pia-3/
LOCATION:Singapore Expo\, Hall 3\, 1 Expo Drive\, 486150\, Singapore
END:VEVENT
BEGIN:VEVENT
DTSTART;TZID=Asia/Singapore:20241129T180000
DTEND;TZID=Asia/Singapore:20241129T220000
DTSTAMP:20260423T173632
CREATED:20241023T011016Z
LAST-MODIFIED:20241028T075138Z
UID:27326-1732903200-1732917600@aspri.com.sg
SUMMARY:Winederful Evening at ASPRI Q4 Social Night 2024
DESCRIPTION:We are thrilled to invite you to an elegant evening of networking and camaraderie at The Providore Raffles Place. Indulge in a delightful selection of wines and delicious light snacks & canapés while connecting with fellow members in a casual and welcoming atmosphere. \nDue to limited slots available\, all registration will be in a first-come\, first-served format. We will close registration once we fill all seats or at 6:00pm on Thursday\, 14 November 2024\, whichever comes first. \nEvent Details \nDate: Friday\, 29 November 2024 \nTime: 6.00pm – 10.00pm (registration starts at 6.00pm) \nVenue: The Providore\, Raffles Place\, 7 Raffles Place\, Singapore 048625 \nNon-Refundable Registration Fee: $20 (including gst) per member. ASPRI members are eligible to purchase TWO tickets per company (UEN). \nClick here to register. \nFor event enquiries\, please contact Kathy at Kathy@aspri.com.sg. \nWe look forward to seeing you there!\n\n\n\n\n\n\n\n 
URL:https://aspri.com.sg/event/winedeful-evening-at-aspri-q4-social-night-2024/
LOCATION:The Providore\, 7 Raffles Place\, 048625\, Singapore
CATEGORIES:Social Event
ORGANIZER;CN="ASPRI":MAILTO:admin@aspri.com.sg
END:VEVENT
END:VCALENDAR